BEGIN:VCALENDAR
VERSION:2.0
PRODID:-//wp-events-plugin.com//7.2.3.1//EN
BEGIN:VEVENT
UID:20@markus-buechler.de
DTSTART:20221024T153000Z
DTEND:20221024T170000Z
DTSTAMP:20221024T140104Z
URL:https://markus-buechler.de/events/fahrradtour-mit-hep-monatzeder-mdl-u
 nd-dr-markus-buechler-mdl/
SUMMARY:Fahrradtour mit Hep Monatzeder\, MdL und Dr. Markus Büchler\, MdL
DESCRIPTION:VERSCHOBEN!!! Auf Grund des durchgehend schlechten Wetters vers
 chieben wir die Radltour ins Frühjahr.\n\nWir laden herzlich zur gemeinsa
 m Fahrradtour der Landtagsabgeordneten Hep Monatzeder\, MdL und Dr. Mark
 us Büchler\, MdL am 24.10.22 ein! Gestartet wird am Leuchtenbergring um 1
 6:30 Uhr.\nAnschließend radeln wir auf der Trasse des geplanten schnellen
  Radwegs bis nach Haar.\n\nWeitere Infos zum schnellen Radweg von München
  bis Ebersberg gibt es hier:\nhttps://schneller-radweg-muenchen-ebersberg.
 de/\nDas Projekt steht unter der Schirmherrschaft von Dr. Markus Büchler\
 , MdL\n\nIn Haar angekommen\, besteht im Anschluss noch die Möglichkeit z
 u einem Austausch in der Taverna Kalimera.\n\nTreffpunkt ist in der Neumar
 kter Str. 1\, gerne könnt Ihr aber auch auf der Tour dazustoßen. Anmeldu
 ngen hier oder an marion.seitz[at]gruene-fraktion-bayern.de\, spontane Mit
 radler*innen sind jedoch auch herzlich Willkommen!
END:VEVENT
END:VCALENDAR