BEGIN:VCALENDAR
VERSION:2.0
PRODID:-//wp-events-plugin.com//7.2.3.1//EN
BEGIN:VEVENT
UID:23@markus-buechler.de
DTSTART:20230617T103000Z
DTEND:20230617T153000Z
DTSTAMP:20230614T133739Z
URL:https://markus-buechler.de/events/sonderfahrt-auf-der-mainschleifenbah
 n/
SUMMARY:Sonderfahrt auf der Mainschleifenbahn
DESCRIPTION:ANMELDUNG\nSonderfahrt auf der Mainschleifenbahn\nSeligenstadt-
 -Volkach/Astheim\nDas Eisenbahn-Netz in Bayern soll der Grundpfeiler der M
 obilität für alle werden. Die Grünen im Bayerischen Landtag wollen\, da
 ss die Bahn ausgebaut\, modernisiert und ertüchtigt wird. Ein einfacher S
 chritt ist die Reaktivierung geeigneter Strecken für den Personenverkehr.
 \n\nWir laden zum Abschluss unserer Reihe der Sonderfahrten auf Reaktivier
 ungsstrecken herzlich ein\, die Mainschleifenbahn zu befahren am\nSamstag\
 , 17. Juni 2023\n11:30--16:30 Uhr\nAus dem Landtag werden mit dabei sein:\
 n\nLudwig Hartmann\, Fraktionsvorsitzender\nDr. Markus Büchler\, Sprecher
  für Mobilität\nKerstin Celina\, Abgeordnete aus Würzburg-Land\nPatrick
  Friedl\, Abgeordneter aus Würzburg-Stadt\nPaul Knoblach\, Abgordneter au
 s Schweinfurt\n\nAuf der Fahrt wird es Gelegenheit geben zur Diskussion ü
 ber die Chancen für die Reaktivierung der Mainschleifenbahn und zu vielen
  anderen Bahnstrecken.\n\nDas aktualisierte Handbuch des Verbands Deutsche
 r Verkehrsunternehmen (VDV) zur „Reaktivierung von Eisenbahnstrecken“ 
 zeigt erneut: die Stärkung der Schiene und die Reaktivierung vorhandener 
 Strecken für den Regelbetrieb birgt ein enormes Potential für die Stärk
 ung der ländlichen Räume\, die Verbesserung des ÖPNV und für die Errei
 chung der Klimaziele im Verkehr. Grünes Ziel ist ein attraktives Angebot 
 im Stundentakt mit modernen Fahrzeugen\, denn die Bahn ist das Rückgrat d
 es öffentlichen Verkehrs.\n\nABLAUF\n\nZu- und Ausstieg an allen Haltepun
 kten möglich\n\n11:30 Uhr Treffpunkt\nBahnhof Seligenstadt am Bahnsteig d
 er Mainschleifenbahn\n\n11.45 Uhr Abfahrt Seligenstadt\n\n11:55 Uhr Prosse
 lsheim an\nAusstieg mit Besichtigung Bahnhof und Depot\n\n12:15 Uhr Prosse
 lsheim ab\n\n12:25 Uhr Ober-/Untereisenheim an\n12:30 Uhr Ober-/Untereisen
 heim ab\n\n12:35 Uhr Escherndorf-Vogelsburg an\nHalt mit Ausstieg und Auss
 ichtspunkt\n\n12:55 Uhr Escherndorf-Vogelsburg ab\n13:05 Uhr Ankunft Volka
 ch-Astheim\n\nMittagessen in Volkach\n\nab 15:00 Uhr Möglichkeit zur Besi
 chtigung des Wärterhäuschens/Brückenhauses\n\n15:45 Uhr Volkach/Astheim
  Treffpunkt am Bahnsteig\n16:00 Uhr Volkach/Astheim ab\n16:25 Uhr Seligens
 tadt an
END:VEVENT
END:VCALENDAR